BEGIN:VCALENDAR
VERSION:2.0
PRODID:-//ITEC MANIZALES - ECPv6.15.11//NONSGML v1.0//EN
CALSCALE:GREGORIAN
METHOD:PUBLISH
X-ORIGINAL-URL:https://manizalesmun.com
X-WR-CALDESC:Eventos para ITEC MANIZALES
REFRESH-INTERVAL;VALUE=DURATION:PT1H
X-Robots-Tag:noindex
X-PUBLISHED-TTL:PT1H
BEGIN:VTIMEZONE
TZID:America/Bogota
BEGIN:STANDARD
TZOFFSETFROM:-0500
TZOFFSETTO:-0500
TZNAME:-05
DTSTART:20240101T000000
END:STANDARD
END:VTIMEZONE
BEGIN:VEVENT
DTSTART;TZID=America/Bogota:20250901T180000
DTEND;TZID=America/Bogota:20250901T193000
DTSTAMP:20260424T080957
CREATED:20250916T004655Z
LAST-MODIFIED:20250916T004755Z
UID:10000016-1756749600-1756755000@manizalesmun.com
SUMMARY:Formación de Presidentes
DESCRIPTION:Jornada de capacitación virtual para presidentes
URL:https://manizalesmun.com/eventos/formacion-presidentes/
LOCATION:Caldas
END:VEVENT
BEGIN:VEVENT
DTSTART;TZID=America/Bogota:20250901T140000
DTEND;TZID=America/Bogota:20250901T163000
DTSTAMP:20260424T080957
CREATED:20250916T004420Z
LAST-MODIFIED:20250916T004420Z
UID:10000015-1756735200-1756744200@manizalesmun.com
SUMMARY:Grabación para Alcaldia  y Fotos para prensa
DESCRIPTION:Grabación de video para alcaldia y fotos para prensa del modelo
URL:https://manizalesmun.com/eventos/grabacion-para-alcaldia-y-fotos-para-prensa/
LOCATION:Centro Cultural Universitario Rogelio Salmona\, Centro Cultural Universitario Rogelio Salmona\, Manizales\, Caldas\, 170003\, Colombia
END:VEVENT
BEGIN:VEVENT
DTSTART;TZID=America/Bogota:20250901T140000
DTEND;TZID=America/Bogota:20250901T160000
DTSTAMP:20260424T080957
CREATED:20250916T004227Z
LAST-MODIFIED:20250916T004227Z
UID:10000014-1756735200-1756742400@manizalesmun.com
SUMMARY:Formación a Delegados
DESCRIPTION:Formación a delegados de distintos colegios en el auditorio del Técnologico; Técnologico\, INEM\, ENSC
URL:https://manizalesmun.com/eventos/formacion-a-delegados-2/
LOCATION:Auditorio de la Institución Educativa Frnaciso José de Caldas\, Auditorio de la Institución Educativa Frnaciso José de Caldas\, Manizales\, Caldas\, 170003\, Colombia
END:VEVENT
BEGIN:VEVENT
DTSTART;TZID=America/Bogota:20250830T140000
DTEND;TZID=America/Bogota:20250830T180000
DTSTAMP:20260424T080957
CREATED:20250916T004023Z
LAST-MODIFIED:20250916T004023Z
UID:10000013-1756562400-1756576800@manizalesmun.com
SUMMARY:Reunión con Promotora
DESCRIPTION:Reunión equipo de trabajo entre la alcaldia\, promotora\, secretarios y sponsor del modelo
URL:https://manizalesmun.com/eventos/reunion-con-promotora/
LOCATION:Promotora\, Promotora\, Manizales\, Caldas\, 170003\, Colombia
END:VEVENT
BEGIN:VEVENT
DTSTART;TZID=America/Bogota:20250828T073000
DTEND;TZID=America/Bogota:20250828T120000
DTSTAMP:20260424T080957
CREATED:20250916T003823Z
LAST-MODIFIED:20250916T003823Z
UID:10000012-1756366200-1756382400@manizalesmun.com
SUMMARY:Formación a Colegios Rurales: La Cabaña y La Granada
DESCRIPTION:Primera jornada de capacitación para los participantes del ITECMANIZALESMUN de los colegios I.E.R La Granada y I.E.R La Granada
URL:https://manizalesmun.com/eventos/formacion-a-colegios-rurales-la-cabana-y-la-granada/
LOCATION:I.E.R La Cabaña\, I.E.R La Cabaña\, Manizales\, Caldas\, 170003\, Colombia
END:VEVENT
BEGIN:VEVENT
DTSTART;TZID=America/Bogota:20250827T073000
DTEND;TZID=America/Bogota:20250827T120000
DTSTAMP:20260424T080957
CREATED:20250916T003334Z
LAST-MODIFIED:20250916T003334Z
UID:10000011-1756279800-1756296000@manizalesmun.com
SUMMARY:Formación a Delegados
DESCRIPTION:Formación a delegados de distintos colegios en la Universidad Autonoma de Manizales; Bosques del Norte\, Latinoamericano\, San Jorge\, San Sebastian
URL:https://manizalesmun.com/eventos/formacion-a-delegados/
LOCATION:Universidad Autonoma de Manizales\, Universidad Autonoma de Manizales\, Manizales\, Caldas\, 170003\, Colombia
END:VEVENT
BEGIN:VEVENT
DTSTART;TZID=America/Bogota:20250825T073000
DTEND;TZID=America/Bogota:20250825T120000
DTSTAMP:20260424T080957
CREATED:20250912T023537Z
LAST-MODIFIED:20250912T023537Z
UID:10000010-1756107000-1756123200@manizalesmun.com
SUMMARY:Formación a Colegios Rurales: Seráfico y La Violeta
DESCRIPTION:Primera jornada de capacitación para los participantes del ITECMANIZALESMUN de los colegios I.E.R La Violeta y El Seráfico
URL:https://manizalesmun.com/eventos/formacion-a-colegios-rurales-serafico-y-la-violeta/
LOCATION:Colegio Seráfico\, Manizales\, Caldas\, 17001\, Colombia
END:VEVENT
BEGIN:VEVENT
DTSTART;TZID=America/Bogota:20250802T100000
DTEND;TZID=America/Bogota:20250802T180000
DTSTAMP:20260424T080957
CREATED:20250912T023324Z
LAST-MODIFIED:20250912T023324Z
UID:10000009-1754128800-1754157600@manizalesmun.com
SUMMARY:Recorrido al centro histórico de Bogotá
DESCRIPTION:Visita al centro histórico de Bogotá\, visitamos lugares como Museo Nacional\, Museo del Oro\, La Candelaria
URL:https://manizalesmun.com/eventos/recorrido-al-centro-historico-de-bogota/
LOCATION:Museo Nacional\, Museo del Oro\, La Candelaria\, Bogota\, Cundinamarca\, Colombia
END:VEVENT
BEGIN:VEVENT
DTSTART;TZID=America/Bogota:20250801T140000
DTEND;TZID=America/Bogota:20250801T170000
DTSTAMP:20260424T080957
CREATED:20250912T023114Z
LAST-MODIFIED:20250912T023114Z
UID:10000008-1754056800-1754067600@manizalesmun.com
SUMMARY:Visita a UNODC
DESCRIPTION:Visita guiada y conversatorio en las oficinas de las Naciones Unidas contra la Droga y el Delito
URL:https://manizalesmun.com/eventos/visita-a-unodc/
LOCATION:Oficina de las Naciones Unidas contra la Droga y el Delito\, Bogota\, Cundinamarca\, Colombia
END:VEVENT
BEGIN:VEVENT
DTSTART;TZID=America/Bogota:20250801T080000
DTEND;TZID=America/Bogota:20250801T100000
DTSTAMP:20260424T080957
CREATED:20250912T022849Z
LAST-MODIFIED:20250912T022849Z
UID:10000007-1754035200-1754042400@manizalesmun.com
SUMMARY:Visita Embajada Neozelandesa
DESCRIPTION:Conversatorio con la embajadora de Nueva Zelanda en Colombia
URL:https://manizalesmun.com/eventos/visita-embajada-neozelandesa/
LOCATION:Ministerio de relaciones exteriores\, Bogota\, Cundinamarca\, Colombia
END:VEVENT
BEGIN:VEVENT
DTSTART;TZID=America/Bogota:20250731T140000
DTEND;TZID=America/Bogota:20250731T170000
DTSTAMP:20260424T080957
CREATED:20250912T022714Z
LAST-MODIFIED:20250912T022714Z
UID:10000006-1753970400-1753981200@manizalesmun.com
SUMMARY:Visita Embajada Britanica
DESCRIPTION:Visita del los participantes de la misión diplomatica a la embaja britanica
URL:https://manizalesmun.com/eventos/visita-embajada-britanica/
LOCATION:Embaja Britanica en Colombia\, Bogota\, Cundinamarca\, Colombia
END:VEVENT
BEGIN:VEVENT
DTSTART;TZID=America/Bogota:20250731T090000
DTEND;TZID=America/Bogota:20250731T120000
DTSTAMP:20260424T080957
CREATED:20250912T022532Z
LAST-MODIFIED:20250912T022532Z
UID:10000005-1753952400-1753963200@manizalesmun.com
SUMMARY:Visita Cancillería
DESCRIPTION:Visita y recorrido en la cancilleria de Colombia por participantes de la misión diplomatica\, además charla con ex-trabajadores de la ONU
URL:https://manizalesmun.com/eventos/visita-cancilleria/
LOCATION:Ministerio de relaciones exteriores\, Bogota\, Cundinamarca\, Colombia
END:VEVENT
BEGIN:VEVENT
DTSTART;TZID=America/Bogota:20250730T180000
DTEND;TZID=America/Bogota:20250730T190000
DTSTAMP:20260424T080957
CREATED:20250912T021837Z
LAST-MODIFIED:20250912T021837Z
UID:10000004-1753898400-1753902000@manizalesmun.com
SUMMARY:Conversatorio con embajador de la buena voluntad de la ONU
DESCRIPTION:Conversatorio con el músico César López\, embajador de la buena voluntad de ONU
URL:https://manizalesmun.com/eventos/conversatorio-con-embajador-de-la-buena-voluntad-de-la-onu/
LOCATION:Terraza Hotel la Salle – Bogota\, Bogota\, Cundinamarca\, Colombia
END:VEVENT
BEGIN:VEVENT
DTSTART;TZID=America/Bogota:20250730T150000
DTEND;TZID=America/Bogota:20250730T170000
DTSTAMP:20260424T080957
CREATED:20250912T021459Z
LAST-MODIFIED:20250912T021459Z
UID:10000003-1753887600-1753894800@manizalesmun.com
SUMMARY:Visita guiada Congreso de la República
DESCRIPTION:Recorrido al Congreso de la República por parte del grupo de misión diplomatica en bogota
URL:https://manizalesmun.com/eventos/visita-guiada-congreso-de-la-republica/
LOCATION:Conreso de la República de Colombia\, Bogota\, Santa fe\, Colombia
END:VEVENT
BEGIN:VEVENT
DTSTART;TZID=America/Bogota:20250722T070000
DTEND;TZID=America/Bogota:20250722T123000
DTSTAMP:20260424T080957
CREATED:20250912T021245Z
LAST-MODIFIED:20250912T021245Z
UID:10000002-1753167600-1753187400@manizalesmun.com
SUMMARY:Socialización del ITECManizalesMUN
DESCRIPTION:Segunda instalación al modelo onu para colegios públicos de manizales y rurales
URL:https://manizalesmun.com/eventos/socializacion-del-itecmanizalesmun/
LOCATION:Universidad Autonoma de Manizales\, Universidad Autonoma de Manizales\, Manizales\, Caldas\, 170003\, Colombia
END:VEVENT
BEGIN:VEVENT
DTSTART;TZID=America/Bogota:20250604T070000
DTEND;TZID=America/Bogota:20250604T120000
DTSTAMP:20260424T080957
CREATED:20250912T020841Z
LAST-MODIFIED:20250912T020841Z
UID:10000001-1749020400-1749038400@manizalesmun.com
SUMMARY:Presentación del ITECManizalesMUN
DESCRIPTION:Primer instalación al modelo onu para colegios públicos de manizales
URL:https://manizalesmun.com/eventos/presentacion-del-itecmanizalesmun/
LOCATION:Universidad de Caldas\, Universidad de Caldas Sede Facultad de Ciencias para la Salud\, Manizales\, Caldas\, 170003\, Colombia
END:VEVENT
END:VCALENDAR